BEGIN:VCALENDAR
VERSION:2.0
PRODID:-//ChamberMaster//Event Calendar 2.0//EN
METHOD:PUBLISH
X-PUBLISHED-TTL:P3D
REFRESH-INTERVAL:P3D
CALSCALE:GREGORIAN
BEGIN:VEVENT
DTSTART:20230215T170000Z
DTEND:20230215T190000Z
X-MICROSOFT-CDO-ALLDAYEVENT:FALSE
SUMMARY:Winning with Wisconsin's Workforce
DESCRIPTION:Winning with Wisconsin's Workforce \n\nFree Luncheon and Discussion \n\nJoin business representatives\, community leaders\, and workforce development professionals for the South Central Winning with Wisconsin's Workforce event on February 15 from 11 am - 1 pm. The free event will cover regional economic trends\, funding opportunities\, workforce development resources\, recruitment strategies\, and business success stories. This session will also explore innovative solutions facing Wisconsin's childcare system.
X-ALT-DESC;FMTTYPE=text/html:<strong><span style="font-size:12.0pt\;">Winning with Wisconsin&#39\;s Workforce </span></strong><br />\n<span style="font-size:12.0pt\;">Free Luncheon and Discussion </span><br />\n<span style="background-image:initial\;background-position:initial\;background-size:initial\;background-repeat:initial\;background-attachment:initial\;background-origin:initial\;background-clip:initial\;"><span style="color:black\;"><span style="font-family:calibri\,sans-serif\;"><span style="font-size:12pt\;">Join business representatives\, community leaders\, and workforce development professionals for the South Central <strong>Winning with Wisconsin&#39\;s Workforce</strong> event <strong>on February 15 from 11 am - 1 pm</strong>. The free event will cover regional economic trends\, funding opportunities\, workforce development resources\, recruitment strategies\, and business success stories.</span></span></span></span><span style="font-family:calibri\,sans-serif\;"><span style="font-size:12.0pt\;"> This session will also explore innovative solutions facing Wisconsin&#39\;s childcare system.&nbsp\;</span></span><br />\n&nbsp\;
LOCATION:Workforce Development Center of Jefferson County Lower Level Classroom 874 Collins Road\, Jefferson
UID:e.2671.5257
SEQUENCE:3
DTSTAMP:20260423T144732Z
URL:https://business.jeffersonchamberwi.com/events/details/winning-with-wisconsin-s-workforce-5257
END:VEVENT

END:VCALENDAR
