BEGIN:VCALENDAR
VERSION:2.0
PRODID:-//ChamberMaster//Event Calendar 2.0//EN
METHOD:PUBLISH
X-PUBLISHED-TTL:P3D
REFRESH-INTERVAL:P3D
CALSCALE:GREGORIAN
BEGIN:VEVENT
DTSTART;VALUE=DATE:20201205
DTEND;VALUE=DATE:20210104
TRANSP:TRANSPARENT
X-MICROSOFT-CDO-ALLDAYEVENT:TRUE
SUMMARY:Winter Nights River Lights
DESCRIPTION:The year ends with the Winter Nights\, River Lights holiday light display the month of December at Rotary Park.
X-ALT-DESC;FMTTYPE=text/html:<span style="color: rgb(102\, 102\, 102)\; font-family: &quot\;System Fonts&quot\;\, -apple-system\, BlinkMacSystemFont\, &quot\;Segoe UI&quot\;\, Roboto\, Oxygen-Sans\, Ubuntu\, Cantarell\, &quot\;Helvetica Neue&quot\;\, sans-serif\; font-size: 17px\;">The year ends with the Winter Nights\, River Lights holiday light display the month of December at Rotary Park.&nbsp\;</span>
LOCATION:Rotary Park 301 S Gardner Ave\, Jefferson\, WI 53549
UID:e.2671.4201
SEQUENCE:3
DTSTAMP:20260425T032002Z
URL:https://business.jeffersonchamberwi.com/events/details/winter-nights-river-lights-4201
END:VEVENT

END:VCALENDAR
