BEGIN:VCALENDAR
VERSION:2.0
PRODID:-//ChamberMaster//Event Calendar 2.0//EN
METHOD:PUBLISH
X-PUBLISHED-TTL:P3D
REFRESH-INTERVAL:P3D
CALSCALE:GREGORIAN
BEGIN:VEVENT
DTSTART:20230225T160000Z
DTEND:20230225T200000Z
X-MICROSOFT-CDO-ALLDAYEVENT:FALSE
SUMMARY:WisLUG LEGO Exhibit
DESCRIPTION:WisLUG LEGO Exhibit at the Jefferson Public Library. Saturday\, February 25 in the Library Meeting Room. Want to see some amazing LEGO builds? Come and explore the creative LEGO works of the members of WisLug. This group is a Wisconsin LEGO  Users Group (LUG) based in southern WI. All ages.
X-ALT-DESC;FMTTYPE=text/html:WisLUG LEGO Exhibit at the Jefferson Public Library. Saturday\, February 25 in the Library Meeting Room. Want to see some amazing LEGO builds? Come and explore the creative LEGO works of the members of WisLug. This group is a Wisconsin LEGO&reg\; Users Group (LUG) based in southern WI. All ages.
LOCATION:
UID:e.2671.5269
SEQUENCE:3
DTSTAMP:20260423T144731Z
URL:https://business.jeffersonchamberwi.com/events/details/wislug-lego-exhibit-5269
END:VEVENT

END:VCALENDAR
