BEGIN:VCALENDAR
VERSION:2.0
PRODID:-//ChamberMaster//Event Calendar 2.0//EN
METHOD:PUBLISH
X-PUBLISHED-TTL:P3D
REFRESH-INTERVAL:P3D
CALSCALE:GREGORIAN
BEGIN:VEVENT
DTSTART:20221013T230000Z
DTEND:20221014T010000Z
X-MICROSOFT-CDO-ALLDAYEVENT:FALSE
SUMMARY:Women\, Wealth & Wisdom - Workshop & Fashion Show!!
DESCRIPTION:Thrivent Advisors Ralph Lassa and Nikki Austin along with Brightter Boutique owner and visionary\, Cristina Pickett invite you to join them for a Women\, Wealth & Wisdom Workshop and Fashion Show!!  Learn to apply real-world lessons unique for women about managing finances and reaching financial goals. \n\nEnjoy wine and hors d'oeuvres and a mini fashion show featuring the latest fall and winter trends from Brightter Boutique in downtown Jefferson.  Cristina will be on hand to answer your fashion and wardrobe questions.\n\nPlease see the accompanying flyer for RSVP information.
X-ALT-DESC;FMTTYPE=text/html:<span style="font-size:14px"><span style="font-family:verdana">Thrivent Advisors Ralph Lassa and Nikki Austin along with Brightter Boutique owner and visionary\, Cristina Pickett invite you to join them for a Women\, Wealth &amp\; Wisdom Workshop and Fashion Show!!&nbsp\; Learn to apply real-world lessons unique for women about managing finances and reaching financial goals.&nbsp\;<br />\nEnjoy wine and hors d&#39\;oeuvres and a mini fashion show featuring the latest fall and winter trends from Brightter Boutique in downtown Jefferson.&nbsp\; Cristina will be on hand to answer your fashion and wardrobe questions.<br />\nPlease see the accompanying flyer for RSVP information.</span></span>
LOCATION:109 N. Main Street\, Jefferson\, WI 53549
UID:e.2671.4869
SEQUENCE:3
DTSTAMP:20260423T203019Z
URL:https://business.jeffersonchamberwi.com/events/details/women-wealth-wisdom-workshop-fashion-show-4869
END:VEVENT

END:VCALENDAR
